BEGIN:VCALENDAR
VERSION:2.0
PRODID:-//eventon.com NONSGML v1.0//EN
CALSCALE:GREGORIAN
METHOD:PUBLISH
BEGIN:VEVENT
UID:69e9012d3a1c5
DTSTAMP:20260422T171109Z
DTSTART:20260426T200000Z
DTEND:20260426T230000Z
LOCATION:Mountain Timber Market 254 HENDERICKSON DRIVE KALAMA WA 98625
SUMMARY:Live Music at Mountain Timber Market
DESCRIPTION:Join us at the Mountain Timber Market for free live music. Arti
 st: Aram Aslanian\nhttps://discoverkalama.com/events/live-music-at-mountain
 -timber-market-13/
URL:https://discoverkalama.com/events/live-music-at-mountain-timber-market-13/
END:VEVENT
END:VCALENDAR